BEGIN:VCALENDAR
VERSION:2.0
PRODID:-//ChamberMaster//Event Calendar 2.0//EN
METHOD:PUBLISH
X-PUBLISHED-TTL:P1H
REFRESH-INTERVAL:P1H
CALSCALE:GREGORIAN
BEGIN:VTIMEZONE
TZID:America/Chicago
BEGIN:DAYLIGHT
RRULE:FREQ=YEARLY;BYMONTH=3;BYDAY=2SU
DTSTART:20070101T000000
TZOFFSETFROM:-0600
TZOFFSETTO:-0500
TZNAME:Central Daylight Time
END:DAYLIGHT
BEGIN:STANDARD
RRULE:FREQ=YEARLY;BYMONTH=11;BYDAY=1SU
DTSTART:20070101T000000
TZOFFSETFROM:-0500
TZOFFSETTO:-0600
TZNAME:Central Standard Time
END:STANDARD
END:VTIMEZONE
BEGIN:VEVENT
DTSTART;TZID=America/Chicago:20260416T090000
DTEND;TZID=America/Chicago:20260418T150000
X-MICROSOFT-CDO-ALLDAYEVENT:FALSE
SUMMARY:A Walk Through Time (Civil War Days)
DESCRIPTION:Join us for a fun filled weekend of everything Civil War Era! Immerse yourself in the 1860's with our variety of happenings! Thursday\, April 16th and Friday\, April 17th are Education Days and will have education stops for students and guests to learn about the townships with solider were off to war. Saturday April 18th\, Family Day will have period demonstrations\, reenactments\, artillery groups\, and so much more!
X-ALT-DESC;FMTTYPE=text/html:<!DOCTYPE html><html><head><title></title></head><body aria-disabled="false"><p>Join us for a fun filled weekend of everything Civil War Era! Immerse yourself in the 1860&#39\;s with our variety of happenings! Thursday\, April 16th and Friday\, April 17th are Education Days and will have education stops for students and guests to learn about the townships with solider were off to war. Saturday April 18th\, Family Day will have period demonstrations\, reenactments\, artillery groups\, and so much more!</p></body></html>
LOCATION:4404 West 20th Street Grove OK 74344
UID:e.4122.1438847
SEQUENCE:3
DTSTAMP:20260420T020300Z
URL:https://business.groveok.org/community-calendar/Details/a-walk-through-time-civil-war-days-1703046?sourceTypeId=Hub
END:VEVENT
END:VCALENDAR
