BEGIN:VCALENDAR
VERSION:2.0
PRODID:-//ChamberMaster//Event Calendar 2.0//EN
METHOD:PUBLISH
X-PUBLISHED-TTL:P1H
REFRESH-INTERVAL:P1H
CALSCALE:GREGORIAN
BEGIN:VTIMEZONE
TZID:America/Chicago
BEGIN:DAYLIGHT
RRULE:FREQ=YEARLY;BYMONTH=3;BYDAY=2SU
DTSTART:20070101T000000
TZOFFSETFROM:-0600
TZOFFSETTO:-0500
TZNAME:Central Daylight Time
END:DAYLIGHT
BEGIN:STANDARD
RRULE:FREQ=YEARLY;BYMONTH=11;BYDAY=1SU
DTSTART:20070101T000000
TZOFFSETFROM:-0500
TZOFFSETTO:-0600
TZNAME:Central Standard Time
END:STANDARD
END:VTIMEZONE
BEGIN:VEVENT
DTSTART;TZID=America/Chicago:20260509T103000
DTEND;TZID=America/Chicago:20260509T113000
X-MICROSOFT-CDO-ALLDAYEVENT:FALSE
SUMMARY:Friends of Grand Lake Audubon Society Monthly Meeting
DESCRIPTION:Join the Friends of Grand Lake Audubon Society for our monthly meeting on Saturday\, May 9th from 10:30 11:30 am at the Grove Community Center. ﻿It's a great opportunity to meet fellow birders\, get involved in conservation\, and make a real impact on our feathered friends! grandlakebirders.comThis month\, "Bird Communication" by Janna McFarland.
X-ALT-DESC;FMTTYPE=text/html:<!DOCTYPE html><html><head><title></title></head><body aria-disabled="false"><p>Join the Friends of Grand Lake Audubon Society for our monthly meeting on Saturday\, May 9th from 10:30&ndash\;11:30 am at the Grove Community Center. ﻿It&rsquo\;s a great opportunity to meet fellow birders\, get involved in conservation\, and make a real impact on our feathered friends! <a fr-original-style="" href="https://www.grandlakebirders.com/?fbclid=IwY2xjawNSaTlleHRuA2FlbQIxMQABHuEAm3lrGrOmnTDW2EB1sQDLVp9g61_xNDpesNzWR70HWFg3JEGzUBHMMol6_aem_Ml0OjE-FVkYDbs-ldsm57Q" style="user-select: auto\;">grandlakebirders.com</a></p><p>This month\, &quot\;Bird Communication&quot\; by Janna McFarland.</p></body></html>
LOCATION:104 W. 3rd St Grove OK 74344
UID:e.4122.1443776
SEQUENCE:3
DTSTAMP:20260422T084515Z
URL:https://business.groveok.org/community-calendar/Details/friends-of-grand-lake-audubon-society-monthly-meeting-1710022?sourceTypeId=Hub
END:VEVENT
END:VCALENDAR
