BEGIN:VCALENDAR
VERSION:2.0
PRODID:-//ChamberMaster//Event Calendar 2.0//EN
METHOD:PUBLISH
X-PUBLISHED-TTL:P1H
REFRESH-INTERVAL:P1H
CALSCALE:GREGORIAN
BEGIN:VTIMEZONE
TZID:America/Chicago
BEGIN:DAYLIGHT
RRULE:FREQ=YEARLY;BYMONTH=3;BYDAY=2SU
DTSTART:20070101T000000
TZOFFSETFROM:-0600
TZOFFSETTO:-0500
TZNAME:Central Daylight Time
END:DAYLIGHT
BEGIN:STANDARD
RRULE:FREQ=YEARLY;BYMONTH=11;BYDAY=1SU
DTSTART:20070101T000000
TZOFFSETFROM:-0500
TZOFFSETTO:-0600
TZNAME:Central Standard Time
END:STANDARD
END:VTIMEZONE
BEGIN:VEVENT
DTSTART;TZID=America/Chicago:20260924T090000
DTEND;TZID=America/Chicago:20260926T160000
X-MICROSOFT-CDO-ALLDAYEVENT:FALSE
SUMMARY:Pioneer Days at Har-Ber Village
DESCRIPTION:Come visit Pioneer Days! Enjoy live reenactments of all aspects of the daily living of our forefathers in this area. Learn heritage skills and even have the opportunity to buy something made by the wonderful hand crafters.  Thursday and Friday are education days and Saturday is fun for family adventures! Step into the 1800s at Pioneer Days! Spend a fall weekend exploring 70+ historic cabins with hands-on demos like blacksmithing\, corn shelling\, butter churning\, quilting\, rope making\, and woodstove baking. Meet costumed interpreters\, hear period music\, and try kid-friendly "maker" stations from grinding corn to the print shop. Stroll forested trails and visit the Visitor's Center for unique gifts\, treats and souvenirs. Bring the whole family for living history on Grand Lake.\nWhat to expectLive demos (schedule posted daily)Try-it stations for kids & adultsStorytelling\, music\, and short talksNature walks & lake overlooksGeneral Store & Mercantile open
X-ALT-DESC;FMTTYPE=text/html:<!DOCTYPE html><html><head><title></title></head><body aria-disabled="false"><p>Come visit Pioneer Days! Enjoy live reenactments of all aspects of the daily living of our forefathers in this area. Learn heritage skills and even have the opportunity to buy something made by the wonderful hand crafters. &nbsp\;Thursday and Friday are education days and Saturday is fun for family adventures!&nbsp\;</p><p style="margin: 0px\; padding: 0px\; color: rgb(62\, 62\, 62)\; font-family: Arial\, Verdana\, Helvetica\, sans-serif\; font-size: 14px\; font-style: normal\; font-variant-ligatures: normal\; font-variant-caps: normal\; font-weight: 400\; letter-spacing: normal\; orphans: 2\; text-align: left\; text-indent: 0px\; text-transform: none\; widows: 2\; word-spacing: 0px\; -webkit-text-stroke-width: 0px\; white-space: normal\; background-color: rgb(255\, 255\, 255)\; text-decoration-thickness: initial\; text-decoration-style: initial\; text-decoration-color: initial\;"><span style='color: rgb(0\, 0\, 0)\; font-family: "Times New Roman"\, Times\, serif\; font-size: 18px\;'>Step into the 1800s at Pioneer Days! Spend a fall weekend exploring 70+ historic cabins with&nbsp\;hands-on demos&nbsp\;like blacksmithing\, corn shelling\, butter churning\, quilting\, rope making\, and woodstove baking. Meet costumed interpreters\, hear period music\, and try kid-friendly &ldquo\;maker&rdquo\; stations&mdash\;from grinding corn to the print shop. Stroll forested trails and visit the Visitor&#39\;s Center for unique gifts\, treats and souvenirs. Bring the whole family for living history on Grand Lake.</span></p><h2 style="color: rgb(62\, 62\, 62)\; font-style: normal\; font-variant-ligatures: normal\; font-variant-caps: normal\; letter-spacing: normal\; orphans: 2\; text-align: left\; text-indent: 0px\; text-transform: none\; widows: 2\; word-spacing: 0px\; -webkit-text-stroke-width: 0px\; white-space: normal\; background-color: rgb(255\, 255\, 255)\; text-decoration-thickness: initial\; text-decoration-style: initial\; text-decoration-color: initial\; font-family: Tahoma\, Geneva\, sans-serif\; font-size: 20px\; font-weight: bold\; margin: 0px\;"><span style='color: rgb(0\, 0\, 0)\; font-family: "Times New Roman"\, Times\, serif\; font-size: 18px\;'><br></span></h2><h2 style="color: rgb(62\, 62\, 62)\; font-style: normal\; font-variant-ligatures: normal\; font-variant-caps: normal\; letter-spacing: normal\; orphans: 2\; text-align: left\; text-indent: 0px\; text-transform: none\; widows: 2\; word-spacing: 0px\; -webkit-text-stroke-width: 0px\; white-space: normal\; background-color: rgb(255\, 255\, 255)\; text-decoration-thickness: initial\; text-decoration-style: initial\; text-decoration-color: initial\; font-family: Tahoma\, Geneva\, sans-serif\; font-size: 20px\; font-weight: bold\; margin: 0px\;"><span style='color: rgb(0\, 0\, 0)\; font-family: "Times New Roman"\, Times\, serif\; font-size: 18px\;'>What to expect</span></h2><ul fr-original-style="padding: 0px\; margin: 0px 0px 0px 40px\; color: rgb(62\, 62\, 62)\; font-family: Arial\, Verdana\, Helvetica\, sans-serif\; font-size: 14px\; font-style: normal\; font-variant-ligatures: normal\; font-variant-caps: normal\; font-weight: 400\; letter-spacing: normal\; orphans: 2\; text-align: left\; text-indent: 0px\; text-transform: none\; widows: 2\; word-spacing: 0px\; -webkit-text-stroke-width: 0px\; white-space: normal\; background-color: rgb(255\, 255\, 255)\; text-decoration-thickness: initial\; text-decoration-style: initial\; text-decoration-color: initial\;" style="padding: 0px\; margin: 0px 0px 0px 40px\; color: rgb(62\, 62\, 62)\; font-family: Arial\, Verdana\, Helvetica\, sans-serif\; font-size: 14px\; font-style: normal\; font-variant-ligatures: normal\; font-variant-caps: normal\; font-weight: 400\; letter-spacing: normal\; orphans: 2\; text-align: left\; text-indent: 0px\; text-transform: none\; widows: 2\; word-spacing: 0px\; -webkit-text-stroke-width: 0px\; white-space: normal\; background-color: rgb(255\, 255\, 255)\; text-decoration-thickness: initial\; text-decoration-style: initial\; text-decoration-color: initial\; list-style-position: inside\;"><li style="margin: 0px\; padding: 0px\; color: rgb(0\, 0\, 0)\; font-size: 18px\;"><span style='color: rgb(0\, 0\, 0)\; font-family: "Times New Roman"\, Times\, serif\; font-size: 18px\;'>Live demos (schedule posted daily)</span></li><li style="margin: 0px\; padding: 0px\; color: rgb(0\, 0\, 0)\; font-size: 18px\;"><span style='color: rgb(0\, 0\, 0)\; font-family: "Times New Roman"\, Times\, serif\; font-size: 18px\;'>Try-it stations for kids &amp\; adults</span></li><li style="margin: 0px\; padding: 0px\; color: rgb(0\, 0\, 0)\; font-size: 18px\;"><span style='color: rgb(0\, 0\, 0)\; font-family: "Times New Roman"\, Times\, serif\; font-size: 18px\;'>Storytelling\, music\, and short talks</span></li><li style="margin: 0px\; padding: 0px\; color: rgb(0\, 0\, 0)\; font-size: 18px\;"><span style='color: rgb(0\, 0\, 0)\; font-family: "Times New Roman"\, Times\, serif\; font-size: 18px\;'>Nature walks &amp\; lake overlooks</span></li><li style="margin: 0px\; padding: 0px\; color: rgb(0\, 0\, 0)\; font-size: 18px\;"><span style='color: rgb(0\, 0\, 0)\; font-family: "Times New Roman"\, Times\, serif\; font-size: 18px\;'>General Store &amp\; Mercantile open</span></li></ul></body></html>
LOCATION:4404 W. 20th St. Grove OK 74344
UID:e.4122.1443845
SEQUENCE:3
DTSTAMP:20260420T020514Z
URL:https://business.groveok.org/community-calendar/Details/pioneer-days-at-har-ber-village-1710091?sourceTypeId=Hub
END:VEVENT
END:VCALENDAR
