BEGIN:VCALENDAR
VERSION:2.0
PRODID:-//ChamberMaster//Event Calendar 2.0//EN
METHOD:PUBLISH
X-PUBLISHED-TTL:P1H
REFRESH-INTERVAL:P1H
CALSCALE:GREGORIAN
BEGIN:VTIMEZONE
TZID:America/Chicago
BEGIN:DAYLIGHT
RRULE:FREQ=YEARLY;BYMONTH=3;BYDAY=2SU
DTSTART:20070101T000000
TZOFFSETFROM:-0600
TZOFFSETTO:-0500
TZNAME:Central Daylight Time
END:DAYLIGHT
BEGIN:STANDARD
RRULE:FREQ=YEARLY;BYMONTH=11;BYDAY=1SU
DTSTART:20070101T000000
TZOFFSETFROM:-0500
TZOFFSETTO:-0600
TZNAME:Central Standard Time
END:STANDARD
END:VTIMEZONE
BEGIN:VEVENT
DTSTART;TZID=America/Chicago:20261218T173000
DTEND;TZID=America/Chicago:20261219T203000
X-MICROSOFT-CDO-ALLDAYEVENT:FALSE
SUMMARY:Santa's Ozark Mountain Village at Har-Ber Village
DESCRIPTION:Enjoy an evening holiday experience with over 800\,000 lights\, live music\, cocoa & cookies\, wine tasting\, Santa\, Shopping\, living history demonstrations\, and lots of memory making! Event information at har-bervillage.com
X-ALT-DESC;FMTTYPE=text/html:<!DOCTYPE html><html><head><title></title></head><body aria-disabled="false"><p>Enjoy an evening holiday experience with over 800\,000 lights\, live music\, cocoa &amp\; cookies\, wine tasting\, Santa\, Shopping\, living history demonstrations\, and lots of memory making! Event information at <a fr-original-style="" href="https://har-bervillage.com/home" style="user-select: auto\;">har-bervillage.com</a></p></body></html>
LOCATION:4404 W 20th Street Grove OK 74344
UID:e.4122.1444907
SEQUENCE:3
DTSTAMP:20260420T022855Z
URL:https://business.groveok.org/community-calendar/Details/santa-s-ozark-mountain-village-at-har-ber-village-1711323?sourceTypeId=Hub
END:VEVENT
END:VCALENDAR
